BEGIN:VCALENDAR
VERSION:2.0
PRODID:-//Earth Contact Products - ECPv6.15.20//NONSGML v1.0//EN
CALSCALE:GREGORIAN
METHOD:PUBLISH
X-WR-CALNAME:Earth Contact Products
X-ORIGINAL-URL:https://earthcontactproducts.com
X-WR-CALDESC:Events for Earth Contact Products
REFRESH-INTERVAL;VALUE=DURATION:PT1H
X-Robots-Tag:noindex
X-PUBLISHED-TTL:PT1H
BEGIN:VTIMEZONE
TZID:America/New_York
BEGIN:DAYLIGHT
TZOFFSETFROM:-0500
TZOFFSETTO:-0400
TZNAME:EDT
DTSTART:20240310T070000
END:DAYLIGHT
BEGIN:STANDARD
TZOFFSETFROM:-0400
TZOFFSETTO:-0500
TZNAME:EST
DTSTART:20241103T060000
END:STANDARD
BEGIN:DAYLIGHT
TZOFFSETFROM:-0500
TZOFFSETTO:-0400
TZNAME:EDT
DTSTART:20250309T070000
END:DAYLIGHT
BEGIN:STANDARD
TZOFFSETFROM:-0400
TZOFFSETTO:-0500
TZNAME:EST
DTSTART:20251102T060000
END:STANDARD
BEGIN:DAYLIGHT
TZOFFSETFROM:-0500
TZOFFSETTO:-0400
TZNAME:EDT
DTSTART:20260308T070000
END:DAYLIGHT
BEGIN:STANDARD
TZOFFSETFROM:-0400
TZOFFSETTO:-0500
TZNAME:EST
DTSTART:20261101T060000
END:STANDARD
END:VTIMEZONE
BEGIN:VEVENT
DTSTART;VALUE=DATE:20251007
DTEND;VALUE=DATE:20251010
DTSTAMP:20260424T183500
CREATED:20250827T175916Z
LAST-MODIFIED:20250910T150147Z
UID:37949-1759795200-1760054399@earthcontactproducts.com
SUMMARY:ECP Driven 2025:  Driven to Success!
DESCRIPTION:Driven 2025 – An Owners Only Event\nDates: October 7 – October 9 \nLocation: Myrtle Beach Marriott\, Myrtle Beach\, SC \nPreview the full itinerary:  DRIVEN Itinerary \nEarth Contact Products (ECP) is excited to announce DRIVEN 2025\, an invite-only leadership workshop exclusively for ECP business owners. This ECP signature event brings together owners from across the ECP partner network for three days of collaboration\, networking\, recognition\, and inspiration. \nWhy Attend DRIVEN 2025?\nAttending DRIVEN 2025 offers more than just leadership sessions — it’s an opportunity to invest in your business and connect with peers who share the same drive for success. By participating\, you’ll gain: \n\nLeadership & Collaboration: Gain insights to strengthen your business and lead with confidence.\nNetworking Opportunities: Build meaningful connections with other ECP owners and decision-makers.\nProject of the Year Awards: Join us as we honor the winners in Light Commercial\, Residential\, Waterproofing\, and PolyPier/Concrete Lifting.  Winners receive recognition\, exposure\, and statement credits — up to $15\,000.\nCelebration & Fun: From the beach bag tournament to partner excursions\, enjoy time to relax and recharge with your peers.\n\nMeet Our Keynote Speaker: Brad Humphrey\nNew to the DRIVEN stage but a familiar name in our industry\, Brad Humphrey is known across North America as The Contractor’s Best Friend. With decades of leadership experience\, Brad has coached thousands of contractors\, helping them turn jobsite frustrations into leadership wins. He’s also a longtime presenter at the World of Concrete\, where his practical\, no-fluff advice always draws a crowd. \nHosted by John Di Domenico\nEmmy-nominated comedian and impressionist John Di Domenico returns as DRIVEN 2025’s emcee. With appearances on Conan\, Jimmy Kimmel\, Howard Stern\, and more\, John keeps the energy high\, the laughs coming\, and the event memorable. \nWho Should Attend?\n***ECP Business Owners Only*** \nSpaces for DRIVEN 2025 are limited – reserve your spot today. Don’t miss this opportunity to celebrate\, connect\, and grow with fellow ECP owners. \nJoin us in Myrtle Beach\, October 7–9\, 2025\, for an event designed to inspire leadership and strengthen the future of #ECPNATION. \nRegister for ECP Driven 2025 \n 
URL:https://earthcontactproducts.com/event/ecp-driven-2025-driven-to-success/
ATTACH;FMTTYPE=image/png:https://earthcontactproducts.com/wp-content/uploads/2025/08/Engineering-Marvel-Giant-SeaBridge-in-China-4.png
END:VEVENT
END:VCALENDAR