BEGIN:VCALENDAR
VERSION:2.0
PRODID:-//Earth Contact Products - ECPv6.15.20//NONSGML v1.0//EN
CALSCALE:GREGORIAN
METHOD:PUBLISH
X-WR-CALNAME:Earth Contact Products
X-ORIGINAL-URL:https://earthcontactproducts.com
X-WR-CALDESC:Events for Earth Contact Products
REFRESH-INTERVAL;VALUE=DURATION:PT1H
X-Robots-Tag:noindex
X-PUBLISHED-TTL:PT1H
BEGIN:VTIMEZONE
TZID:America/Detroit
BEGIN:DAYLIGHT
TZOFFSETFROM:-0500
TZOFFSETTO:-0400
TZNAME:EDT
DTSTART:20240310T070000
END:DAYLIGHT
BEGIN:STANDARD
TZOFFSETFROM:-0400
TZOFFSETTO:-0500
TZNAME:EST
DTSTART:20241103T060000
END:STANDARD
BEGIN:DAYLIGHT
TZOFFSETFROM:-0500
TZOFFSETTO:-0400
TZNAME:EDT
DTSTART:20250309T070000
END:DAYLIGHT
BEGIN:STANDARD
TZOFFSETFROM:-0400
TZOFFSETTO:-0500
TZNAME:EST
DTSTART:20251102T060000
END:STANDARD
BEGIN:DAYLIGHT
TZOFFSETFROM:-0500
TZOFFSETTO:-0400
TZNAME:EDT
DTSTART:20260308T070000
END:DAYLIGHT
BEGIN:STANDARD
TZOFFSETFROM:-0400
TZOFFSETTO:-0500
TZNAME:EST
DTSTART:20261101T060000
END:STANDARD
END:VTIMEZONE
BEGIN:VEVENT
DTSTART;TZID=America/Detroit:20250209T000000
DTEND;TZID=America/Detroit:20250212T000000
DTSTAMP:20260424T234555
CREATED:20241209T192005Z
LAST-MODIFIED:20260123T183303Z
UID:949-1739059200-1739318400@earthcontactproducts.com
SUMMARY:Join ECP at SPFA Convention & Expo 2025 in Daytona Beach
DESCRIPTION:Earth Contact Products (ECP) is thrilled to announce its participation in the Spray Polyurethane Foam Alliance (SPFA) Convention & Expo 2025\, taking place from February 9-12 in Daytona Beach\, Florida. As the premier event for professionals in the spray foam industry\, this conference offers a dynamic platform to connect with industry leaders\, explore groundbreaking technologies\, and gain valuable insights into advancements in spray foam applications. \n \nWhy Attend the SPFA Conference & Expo?\nThe SPFA Conference is more than just an event—it’s a hub of innovation and collaboration. Attendees can access: \n\nCutting-edge educational sessions led by industry experts.\nNetworking opportunities with professionals from across the country.\nA trade show floor featuring the latest in spray foam technologies and solutions.\n\nWhether you’re a contractor\, manufacturer\, or engineer\, the SPFA Conference provides essential resources to enhance your expertise and drive success. \nCheck out the SPFA Convention & Expo 2025 map of exhibitors here. \nSpotlight on PolyPier\nDuring the SPFA Conference\, ECP will showcase PolyPier\, our state-of-the-art polyurethane foam solution for concrete leveling and lifting. PolyPier is engineered to offer unmatched performance\, reliability\, and ease of use\, making it a standout choice for professionals in the concrete repair industry. \nPolyPier Features & Benefits: \n\nRapid Cure Time: Minimizes downtime and allows for quick project completion.\nEco-Friendly Formula: Reduces environmental impact without compromising performance.\nSuperior Strength: Supports heavy loads and ensures lasting stability.\nVersatility: Ideal for a wide range of applications\, including driveways\, sidewalks\, and interior slabs.\n\nExperience the efficiency and precision of PolyPier firsthand at the SPFA Conference. \nConnect with Us at SPFA Convention & Expo 2025\nWe look forward to meeting you at SPFA 2025 in Daytona Beach! Stop by booth 319 and meet the team or set up a one-on-one to learn more about PolyPier.  For more information about PolyPier or to set up a meeting\, please contact Josh Robinson at jrobinson@getecp.com. \nMake sure to mark your calendar for this exciting event\, and join us in advancing the spray foam industry together!
URL:https://earthcontactproducts.com/event/spfa-convention-expo-2025/
END:VEVENT
END:VCALENDAR