BEGIN:VCALENDAR
VERSION:2.0
PRODID:-//Earth Contact Products - ECPv6.15.20//NONSGML v1.0//EN
CALSCALE:GREGORIAN
METHOD:PUBLISH
X-WR-CALNAME:Earth Contact Products
X-ORIGINAL-URL:https://earthcontactproducts.com
X-WR-CALDESC:Events for Earth Contact Products
REFRESH-INTERVAL;VALUE=DURATION:PT1H
X-Robots-Tag:noindex
X-PUBLISHED-TTL:PT1H
BEGIN:VTIMEZONE
TZID:America/Detroit
BEGIN:DAYLIGHT
TZOFFSETFROM:-0500
TZOFFSETTO:-0400
TZNAME:EDT
DTSTART:20230312T070000
END:DAYLIGHT
BEGIN:STANDARD
TZOFFSETFROM:-0400
TZOFFSETTO:-0500
TZNAME:EST
DTSTART:20231105T060000
END:STANDARD
BEGIN:DAYLIGHT
TZOFFSETFROM:-0500
TZOFFSETTO:-0400
TZNAME:EDT
DTSTART:20240310T070000
END:DAYLIGHT
BEGIN:STANDARD
TZOFFSETFROM:-0400
TZOFFSETTO:-0500
TZNAME:EST
DTSTART:20241103T060000
END:STANDARD
BEGIN:DAYLIGHT
TZOFFSETFROM:-0500
TZOFFSETTO:-0400
TZNAME:EDT
DTSTART:20250309T070000
END:DAYLIGHT
BEGIN:STANDARD
TZOFFSETFROM:-0400
TZOFFSETTO:-0500
TZNAME:EST
DTSTART:20251102T060000
END:STANDARD
END:VTIMEZONE
BEGIN:VEVENT
DTSTART;TZID=America/Detroit:20240408T000000
DTEND;TZID=America/Detroit:20240410T000000
DTSTAMP:20260425T153342
CREATED:20231113T205512Z
LAST-MODIFIED:20250103T123238Z
UID:931-1712534400-1712707200@earthcontactproducts.com
SUMMARY:PolyPier School Training Dates for 2024
DESCRIPTION:In the ever-evolving field of concrete repair\, mastering state-of-the-art techniques is the key to unlocking success. Introducing PolyPier School\, a comprehensive training initiative curated by Earth Contact Products (ECP). This program delves into the intricacies of PolyPier\, ECP’s revolutionary polyurethane foam\, and its transformative role in the concrete leveling and lifting arena. \n \nPolyPier: Redefining the Landscape of Concrete Repair\nAs the silent innovators in the concrete repair realm\, PolyPier emerges as a game-changer\, ensuring stability and longevity. PolyPier School unravels the strategic applications and technical nuances that define the efficacy of this cutting-edge polyurethane foam. \nPolyPier School Dates for 2024: \n\nApril 8-10\, 2024\n\nAn Efficient Solution for Concrete Lifting & Leveling\nPolyPier stands as a beacon of efficiency against concrete settling challenges. Whether combatting soil inconsistencies\, structural integrity issues\, or the aftermath of environmental factors\, PolyPier’s versatile composition provides a reliable and durable solution. \nWhat PolyPier School Encompasses\n\nHolistic Learning Modules: This training offers an extensive curriculum covering the foundational principles\, advanced application techniques\, and the science behind PolyPier’s concrete repair capabilities.\nHands-On Immersion: Theory transforms seamlessly into practice through immersive\, hands-on training sessions. Participants engage directly with PolyPier\, honing their skills under the guidance of seasoned professionals.\nInteractive Discourse: PolyPier School fosters an environment conducive to dialogue. Engage in conversations with industry experts and peers\, where questions are encouraged\, and insights are shared.\nReal-World Applications: The program bridges theory and practicality by delving into real-world case studies. Participants witness firsthand the transformative impact of PolyPier in resolving diverse concrete repair challenges.\n\nEmpowering Concrete Repair Professionals\nPolyPier School isn’t just a training program; it’s a launchpad for professionals to make a tangible impact in the field of concrete repair. Whether you’re a seasoned veteran or new to the nuances of concrete leveling\, this program is tailored to elevate your expertise. \nIn an era of evolving construction landscapes\, staying informed and adaptable is paramount. PolyPier School by Earth Contact Products exemplifies a commitment to excellence and continuous education within the concrete repair domain. Join us in sculpting the future of resilient structures—with your new knowledge of PolyPier leading the way! \nReady to join us? Get registered HERE.
URL:https://earthcontactproducts.com/event/polypier-school-training-dates-for-2024/
END:VEVENT
BEGIN:VEVENT
DTSTART;TZID=America/Detroit:20240430T000000
DTEND;TZID=America/Detroit:20240502T000000
DTSTAMP:20260425T153342
CREATED:20231113T220123Z
LAST-MODIFIED:20250103T123037Z
UID:935-1714435200-1714608000@earthcontactproducts.com
SUMMARY:BHA Annual Meeting 2024
DESCRIPTION:In the ever-evolving landscape of basement health and construction solutions\, Earth Contact Products (ECP) is thrilled to announce its participation in the much-anticipated Basement Health Association (BHA) Spring 2024 Meeting. Scheduled from April 30 to May 2\, 2024\, just outside the vibrant city of Philadelphia\, PA\, this event promises to be a pivotal gathering for industry professionals seeking to delve into the latest trends\, insights\, and collaborative opportunities. \n \nEvent Details: BHA Spring 2024 Meeting\nDate: April 30 – May 2\, 2024 \nLocation: Just outside Philadelphia\, PA \nThe BHA Annual Meeting is renowned for providing a platform where industry experts\, innovators\, and solution providers converge to explore cutting-edge topics and share their expertise. With a dual track of speakers and round table sessions\, this event ensures that attendees can tailor their experience to suit their specific interests and professional needs. \nKey Topics on the Agenda:\n\nDiversifying Your Business Lines: Explore strategies to expand and diversify your business offerings\, ensuring resilience and adaptability in a dynamic market.\nExit Strategies: Gain valuable insights into developing effective exit strategies\, fostering long-term sustainability for your business.\nGroundwater and the Effect of Vegetation: Delve into the intricate relationship between groundwater and vegetation\, understanding their impact on structural integrity.\nRelative Humidity (RH) – What is it Really?: Unpack the mysteries of Relative Humidity and its genuine implications in basement health.\nMold Remediation Best Practices: Stay updated on the latest techniques and practices for effective mold remediation\, ensuring a healthier living environment.\n\nWhy ECP is Excited to Attend:\nAs a leading force in foundation and basement solutions\, ECP recognizes the importance of staying at the forefront of industry trends. Our team is enthusiastic about engaging with fellow professionals\, contributing to discussions\, and gaining insights into the challenges and opportunities shaping the basement health sector. \nWe look forward to connecting with industry peers\, sharing our knowledge\, and building lasting collaborations. \nThe BHA Spring meeting is not just an event; it’s a convergence of minds committed to advancing the standards of basement health. Join ECP at this transformative gathering\, and let’s build a future of resilient\, healthy living spaces together!
URL:https://earthcontactproducts.com/event/bha-annual-meeting-2024/
ATTACH;FMTTYPE=image/png:https://earthcontactproducts.com/wp-content/uploads/2025/01/ECP-Crawl-Space-Encapsulation-7.png
END:VEVENT
END:VCALENDAR