BEGIN:VCALENDAR
VERSION:2.0
PRODID:-//Earth Contact Products - ECPv6.15.20//NONSGML v1.0//EN
CALSCALE:GREGORIAN
METHOD:PUBLISH
X-WR-CALNAME:Earth Contact Products
X-ORIGINAL-URL:https://earthcontactproducts.com
X-WR-CALDESC:Events for Earth Contact Products
REFRESH-INTERVAL;VALUE=DURATION:PT1H
X-Robots-Tag:noindex
X-PUBLISHED-TTL:PT1H
BEGIN:VTIMEZONE
TZID:America/Detroit
BEGIN:DAYLIGHT
TZOFFSETFROM:-0500
TZOFFSETTO:-0400
TZNAME:EDT
DTSTART:20220313T070000
END:DAYLIGHT
BEGIN:STANDARD
TZOFFSETFROM:-0400
TZOFFSETTO:-0500
TZNAME:EST
DTSTART:20221106T060000
END:STANDARD
BEGIN:DAYLIGHT
TZOFFSETFROM:-0500
TZOFFSETTO:-0400
TZNAME:EDT
DTSTART:20230312T070000
END:DAYLIGHT
BEGIN:STANDARD
TZOFFSETFROM:-0400
TZOFFSETTO:-0500
TZNAME:EST
DTSTART:20231105T060000
END:STANDARD
BEGIN:DAYLIGHT
TZOFFSETFROM:-0500
TZOFFSETTO:-0400
TZNAME:EDT
DTSTART:20240310T070000
END:DAYLIGHT
BEGIN:STANDARD
TZOFFSETFROM:-0400
TZOFFSETTO:-0500
TZNAME:EST
DTSTART:20241103T060000
END:STANDARD
END:VTIMEZONE
BEGIN:VEVENT
DTSTART;TZID=America/Detroit:20231204T000000
DTEND;TZID=America/Detroit:20231206T000000
DTSTAMP:20260425T212811
CREATED:20231113T200630Z
LAST-MODIFIED:20250103T124614Z
UID:927-1701648000-1701820800@earthcontactproducts.com
SUMMARY:Upcoming Push Pier School Training Dates for 2023-2024
DESCRIPTION:ECP is pleased to announce upcoming Push Pier School training dates for the end of 2023 and for 2024! In the ever-evolving landscape of the foundation repair industry\, staying ahead of the curve is paramount. Enter Push Pier School\, an innovative learning opportunity brought to you by Earth Contact Products (ECP). This educational initiative delves into the intricacies of how push piers are revolutionizing the foundation repair game. \n \nPush Piers: The Silent Heroes of Structural Stability\nAt the heart of every stable structure lies a robust foundation\, and push piers have emerged as the unsung heroes in ensuring this stability. Understanding their application and mastering the art of their installation is where Push Pier School takes center stage. \nPush Pier School dates: \n\nDecember 4-6\, 2023\nApril 1-3\, 2024\n\nWhy Push Piers Matter\nPush piers play a crucial role in stabilizing and lifting foundations affected by settlement issues. Whether caused by soil shrinkage\, poor compaction\, or other environmental factors\, these versatile tools provide a reliable solution. \nWhat Push Pier School Offers\n\nComprehensive Learning Opportunities: This training offers a structured curriculum covering everything from the basics to advanced techniques. Participants gain insights into the science behind push piers\, their installation procedures\, and troubleshooting common issues.\nSharing of Knowledge: Engage in discussions with industry experts and fellow learners. Push Pier training fosters a collaborative environment where questions are welcomed\, and knowledge is shared.\nReal-World Applications: The program bridges the gap between theory and practice by exploring real-world case studies. Participants witness firsthand how push piers have been instrumental in resolving diverse foundation challenges.\n\nEmpowering the Industry\nThis training opportunity isn’t just about acquiring knowledge; it’s about empowering individuals to make a tangible impact in the field. Whether you’re a seasoned professional or new to the world of foundation repair\, this program is designed to elevate your expertise. \nAs we navigate the ever-changing landscape of construction and infrastructure\, staying informed and adaptable is key. Push Pier School by Earth Contact Products stands as a testament to the commitment to excellence and ongoing education within the foundation repair industry. Join us in shaping the future of stable\, resilient structures—one push pier at a time. \nReady to join us? Register HERE. 
URL:https://earthcontactproducts.com/event/upcoming-push-pier-school-training-dates-for-2023-2024/
END:VEVENT
END:VCALENDAR