BEGIN:VCALENDAR
VERSION:2.0
PRODID:-//Earth Contact Products - ECPv6.15.20//NONSGML v1.0//EN
CALSCALE:GREGORIAN
METHOD:PUBLISH
X-ORIGINAL-URL:https://earthcontactproducts.com
X-WR-CALDESC:Events for Earth Contact Products
REFRESH-INTERVAL;VALUE=DURATION:PT1H
X-Robots-Tag:noindex
X-PUBLISHED-TTL:PT1H
BEGIN:VTIMEZONE
TZID:America/Chicago
BEGIN:DAYLIGHT
TZOFFSETFROM:-0600
TZOFFSETTO:-0500
TZNAME:CDT
DTSTART:20250309T080000
END:DAYLIGHT
BEGIN:STANDARD
TZOFFSETFROM:-0500
TZOFFSETTO:-0600
TZNAME:CST
DTSTART:20251102T070000
END:STANDARD
BEGIN:DAYLIGHT
TZOFFSETFROM:-0600
TZOFFSETTO:-0500
TZNAME:CDT
DTSTART:20260308T080000
END:DAYLIGHT
BEGIN:STANDARD
TZOFFSETFROM:-0500
TZOFFSETTO:-0600
TZNAME:CST
DTSTART:20261101T070000
END:STANDARD
BEGIN:DAYLIGHT
TZOFFSETFROM:-0600
TZOFFSETTO:-0500
TZNAME:CDT
DTSTART:20270314T080000
END:DAYLIGHT
BEGIN:STANDARD
TZOFFSETFROM:-0500
TZOFFSETTO:-0600
TZNAME:CST
DTSTART:20271107T070000
END:STANDARD
END:VTIMEZONE
BEGIN:VTIMEZONE
TZID:America/Detroit
BEGIN:DAYLIGHT
TZOFFSETFROM:-0500
TZOFFSETTO:-0400
TZNAME:EDT
DTSTART:20250309T070000
END:DAYLIGHT
BEGIN:STANDARD
TZOFFSETFROM:-0400
TZOFFSETTO:-0500
TZNAME:EST
DTSTART:20251102T060000
END:STANDARD
BEGIN:DAYLIGHT
TZOFFSETFROM:-0500
TZOFFSETTO:-0400
TZNAME:EDT
DTSTART:20260308T070000
END:DAYLIGHT
BEGIN:STANDARD
TZOFFSETFROM:-0400
TZOFFSETTO:-0500
TZNAME:EST
DTSTART:20261101T060000
END:STANDARD
BEGIN:DAYLIGHT
TZOFFSETFROM:-0500
TZOFFSETTO:-0400
TZNAME:EDT
DTSTART:20270314T070000
END:DAYLIGHT
BEGIN:STANDARD
TZOFFSETFROM:-0400
TZOFFSETTO:-0500
TZNAME:EST
DTSTART:20271107T060000
END:STANDARD
END:VTIMEZONE
BEGIN:VEVENT
DTSTART;TZID=America/Chicago:20260120T093000
DTEND;TZID=America/Chicago:20260122T170000
DTSTAMP:20260424T103006
CREATED:20251119T141736Z
LAST-MODIFIED:20260108T220237Z
UID:38751-1768901400-1769101200@earthcontactproducts.com
SUMMARY:ECP to Exhibit at World of Concrete 2026
DESCRIPTION:January 20–22\, 2026 | Booth S12817 | Las Vegas Convention Center\nEarth Contact Products (ECP) is excited to announce our return to World of Concrete 2026\, the industry’s premier international event dedicated to the commercial concrete and masonry construction sectors. As the only annual global gathering of its kind\, World of Concrete brings together top suppliers\, innovative technologies\, hands-on demonstrations\, competitions\, and unmatched educational opportunities—all designed to strengthen professionals working in the concrete industry. \nWith thousands of contractors\, engineers\, and construction leaders in attendance\, World of Concrete is the place to explore the products and solutions shaping the future of concrete repair\, lifting\, leveling\, and structural support. ECP is proud to be part of that conversation. \nWhy ECP Is Exhibiting at World of Concrete\nFor more than 25 years\, ECP has been a trusted name in foundation repair and concrete restoration solutions across the United States. Our products are engineered\, tested\, and manufactured to deliver the performance contractors need on today’s most demanding job sites. \nAt this year’s event\, we’re showcasing how our technologies align with the needs of concrete repair professionals—including innovative solutions like PolyPier\, ECP’s high-density polyurethane foam system designed for concrete lifting and leveling. \nConnecting ECP’s Expertise to the Concrete Industry\nPolyPier: The Evolution of Concrete Lifting\nConcrete contractors attending World of Concrete will have the opportunity to learn how PolyPier supports fast\, efficient\, and long-lasting concrete repairs. With its lightweight formula\, rapid cure time\, and ability to handle precise slab lifting\, PolyPier offers contractors a clean\, minimally invasive solution for restoring driveways\, sidewalks\, warehouse floors\, pool decks\, and more. \nFoundation Repair Systems That Support Concrete Performance\nBeyond concrete lifting\, ECP is also recognized as an industry leader in engineered foundation repair solutions\, including helical piers\, resistance piers\, and grouted displacement pile systems. These products play a critical role in stabilizing structures from the ground up—ensuring long-term performance for both residential and commercial projects. \nAttendees can connect with our team to explore how ECP’s foundation repair systems complement concrete restoration work\, expand service offerings\, and open new opportunities for contractors looking to grow their business. \nVisit ECP at Booth S12817\nECP invites all World of Concrete attendees to stop by Booth S12817 to meet our team\, learn more about our product lines\, and see how we support contractors across the country with engineered\, tested\, and proven solutions. \nWhether you’re focused on concrete repair\, lifting and leveling\, foundation stabilization\, or expanding your service capabilities\, ECP brings the tools and expertise to help you deliver reliable results on every project. \nJoin Us in Las Vegas\nWith hands-on demos\, educational sessions\, and the industry’s leading technologies all under one roof\, World of Concrete 2026 is an event you won’t want to miss. We look forward to connecting with contractors\, industry professionals\, and partners at the Las Vegas Convention Center from January 20–22\, 2026. \nSee you at World of Concrete—and be sure to visit ECP at Booth S12817! \n  \nConfirm your Appointment\n[ssa_booking type=schedule-a-meeting-with-us-at-woc]  \n 
URL:https://earthcontactproducts.com/event/ecp-to-exhibit-at-world-of-concrete-2026/
CATEGORIES:World of Concrete
ATTACH;FMTTYPE=image/png:https://earthcontactproducts.com/wp-content/uploads/2025/11/The-Benefits-of-Footing-Pads-Used-With-Crawl-Space-Jacks.png
END:VEVENT
BEGIN:VEVENT
DTSTART;TZID=America/Detroit:20260407T080000
DTEND;TZID=America/Detroit:20260409T170000
DTSTAMP:20260424T103006
CREATED:20251105T162621Z
LAST-MODIFIED:20260330T195721Z
UID:38605-1775548800-1775754000@earthcontactproducts.com
SUMMARY:ECP Push Pier School Spring 2026
DESCRIPTION:Join Us for Push Pier School\nDates: April 7-9\, 2026\nLocation: ECP Headquarters\, Olathe\, Kansas\nAre you ready to elevate your foundation repair expertise? Earth Contact Products (ECP) is excited to announce our Push Pier School\, happening April 7-9\, 2026! This in-depth training program is designed to equip contractors\, engineers\, and foundation repair professionals with the skills and knowledge needed to master push pier installation\, expand their service offerings\, and grow their businesses. \nWhy Attend Push Pier School?\nECP’s Push Pier School goes beyond basic product training. Attendees will gain hands-on experience with ECP’s push pier systems\, learn industry best practices\, and receive insights directly from ECP’s expert engineers and trainers. Benefits include: \n\nField Demonstrations: Observe push pier installation in a controlled environment with real-world scenarios.\nExpert-Led Sessions: Learn from industry leaders who have decades of experience in foundation repair.\nBusiness Growth Strategies: Discover how to market and position push pier solutions to expand your customer base.\nNetworking Opportunities: Connect with peers\, industry experts\, and ECP team members to build lasting relationships.\n\nECP Push Pier Systems: The Gold Standard in Foundation Repair\nECP’s push piers are renowned for their strength\, reliability\, and ease of installation. These hydraulically-driven steel piers are designed to provide maximum support for structures facing settlement and instability. \nProduct Benefits:\n\nMaterial: High-strength\, galvanized steel.\nLoad Capacity: Up to 100\,000 pounds (depending on soil conditions and installation depth).\nInstallation Depth: Piers can be driven to depths of 100 feet or more to reach load-bearing strata.\nApplications: Suitable for residential\, commercial\, and industrial structures.\n\nReserve Your Spot Today\nDon’t miss this opportunity to become an expert in push pier installation and take your foundation repair skills to the next level. Take advantage of ECP’s Push Pier School 2026! Mark your calendar for April 7-9\, 2026. Spaces are limited\, so register today to secure your spot in ECP’s Push Pier School!
URL:https://earthcontactproducts.com/event/ecp-push-pier-school-spring-2026/
CATEGORIES:Push Piers
ATTACH;FMTTYPE=image/png:https://earthcontactproducts.com/wp-content/uploads/2025/11/Engineering-Marvel-Giant-SeaBridge-in-China-16.png
END:VEVENT
BEGIN:VEVENT
DTSTART;TZID=America/Detroit:20260428T080000
DTEND;TZID=America/Detroit:20260430T170000
DTSTAMP:20260424T103006
CREATED:20251105T161403Z
LAST-MODIFIED:20260330T195307Z
UID:38600-1777363200-1777568400@earthcontactproducts.com
SUMMARY:ECP Helical School Spring 2026
DESCRIPTION:Master the Art of Helical Pier Installation\nDate: April 28-30 2026 \nLocation: ECP Headquarters\, Olathe\, Kansas\nEarth Contact Products (ECP) is excited to announce the Helical Pier School 2026\, a comprehensive training event designed to elevate your foundation repair skills and expertise. Whether you’re new to the industry or an experienced contractor\, this hands-on training will provide you with the knowledge and confidence to excel in helical pier installation. \nWhy Attend ECP’s Helical Pier School?\nAttending ECP’s Helical Pier School offers more than just technical know-how — it’s an investment in your business. By participating\, you’ll gain: \n\nField Demonstrations: Learn from ECP’s seasoned engineers and technical experts as they walk you through the entire process of helical pier installation\, from start to finish.\nReal-World Applications: Understand the complexities of various soil conditions and how ECP’s helical piers provide optimal solutions for stabilizing foundations.\nCertification: Enhance your professional credibility by earning certification as an ECP-trained installer\, giving your customers added confidence in your expertise.\nBusiness Growth Strategies: Discover tips and strategies for marketing your foundation repair services and improving customer satisfaction.\n\nWho Should Attend?\n\nFoundation repair contractors\nStructural engineers\nGeotechnical specialists\nConstruction professionals seeking to expand their service offerings\n\nDon’t miss this opportunity to enhance your skills\, connect with industry peers\, and become a certified ECP helical pier installer. \nAbout ECP Helical Piers\nECP’s helical piers are engineered for superior performance\, offering a reliable and long-lasting solution for foundation stabilization and repair. Key benefits include: \n\nVersatility: Ideal for both residential and commercial applications\, including new construction and foundation remediation.\nDurability: Manufactured from high-strength steel and designed to resist corrosion\, ensuring long-term stability and reliability.\nCustom Solutions: Available in various sizes and configurations to meet the unique demands of any project\, from light residential work to heavy commercial foundations.\nEase of Installation: Helical piers are installed with minimal disruption to the site\, making them a preferred solution for areas with limited access or sensitive structures.\n\nReserve Your Spot Today!\nDon’t miss this opportunity to become an expert in helical pier installation and take your foundation repair skills to the next level. Take advantage of ECP’s Helical School 2026! Mark your calendar for April 28-30. Spaces are limited\, so register today to secure your spot in ECP’s Helical School! 
URL:https://earthcontactproducts.com/event/ecp-helical-school-spring-2026/
CATEGORIES:Helical Piers
ATTACH;FMTTYPE=image/png:https://earthcontactproducts.com/wp-content/uploads/2025/11/Engineering-Marvel-Giant-SeaBridge-in-China-15.png
END:VEVENT
END:VCALENDAR