BEGIN:VCALENDAR
VERSION:2.0
PRODID:-//Earth Contact Products - ECPv6.15.20//NONSGML v1.0//EN
CALSCALE:GREGORIAN
METHOD:PUBLISH
X-WR-CALNAME:Earth Contact Products
X-ORIGINAL-URL:https://earthcontactproducts.com
X-WR-CALDESC:Events for Earth Contact Products
REFRESH-INTERVAL;VALUE=DURATION:PT1H
X-Robots-Tag:noindex
X-PUBLISHED-TTL:PT1H
BEGIN:VTIMEZONE
TZID:America/Detroit
BEGIN:DAYLIGHT
TZOFFSETFROM:-0500
TZOFFSETTO:-0400
TZNAME:EDT
DTSTART:20240310T070000
END:DAYLIGHT
BEGIN:STANDARD
TZOFFSETFROM:-0400
TZOFFSETTO:-0500
TZNAME:EST
DTSTART:20241103T060000
END:STANDARD
BEGIN:DAYLIGHT
TZOFFSETFROM:-0500
TZOFFSETTO:-0400
TZNAME:EDT
DTSTART:20250309T070000
END:DAYLIGHT
BEGIN:STANDARD
TZOFFSETFROM:-0400
TZOFFSETTO:-0500
TZNAME:EST
DTSTART:20251102T060000
END:STANDARD
BEGIN:DAYLIGHT
TZOFFSETFROM:-0500
TZOFFSETTO:-0400
TZNAME:EDT
DTSTART:20260308T070000
END:DAYLIGHT
BEGIN:STANDARD
TZOFFSETFROM:-0400
TZOFFSETTO:-0500
TZNAME:EST
DTSTART:20261101T060000
END:STANDARD
END:VTIMEZONE
BEGIN:VEVENT
DTSTART;TZID=America/Detroit:20250415T000000
DTEND;TZID=America/Detroit:20250417T000000
DTSTAMP:20260424T220309
CREATED:20241205T200738Z
LAST-MODIFIED:20250827T051720Z
UID:947-1744675200-1744848000@earthcontactproducts.com
SUMMARY:PolyPier School 2025 Dates Announced
DESCRIPTION:ECP’s PolyPier School 2025: Elevate Your Concrete Lifting Expertise\nDates: April 15-17\, 2025\nLocation: ECP Headquarters\, Olathe\, KS\nECP’s PolyPier School 2025 offers contractors and industry professionals an immersive learning experience in polyurethane foam concrete lifting. This two-day event combines comprehensive classroom instruction with hands-on\, on-site training to equip attendees with the knowledge and skills needed to excel in the industry. \n\n\n\n\n\n\nWhat to Expect at PolyPier School 2025\nClassroom Training\nGain in-depth knowledge of PolyPier’s high-density polyurethane foam technology\, including: \n\nProduct specifications and industry standards.\nProper installation techniques for optimal results.\nBest practices for site preparation\, foam injection\, and lift monitoring.\nTroubleshooting tips to address common challenges in concrete lifting.\n\nHands-On\, On-Site Training\nApply your classroom knowledge in a real-world setting: \n\nWork with ECP’s PolyPier system to lift and level uneven concrete slabs.\nLearn how to calibrate and operate foam injection equipment.\nUnderstand the importance of precise foam placement and curing times.\n\nNetworking Opportunities\nConnect with ECP experts\, fellow contractors\, and industry leaders to expand your professional network and share insights on the latest advancements in concrete lifting technology. \nWhy Choose PolyPier?\nECP’s PolyPier system offers superior performance and long-lasting results: \n\nLightweight yet strong: High-density foam provides excellent lifting power without adding significant weight to the soil.\nEnvironmentally friendly: Non-invasive installation with minimal disruption to surrounding areas.\nCost-effective: Saves time and money compared to traditional concrete repair methods.\n\nReserve Your Spot Today!\nInvest in your professional growth and become an industry leader in polyurethane foam concrete lifting. For more information and to secure your spot\, click here to register.
URL:https://earthcontactproducts.com/event/polypier-school-2025-dates-announced/
END:VEVENT
END:VCALENDAR