BEGIN:VCALENDAR
VERSION:2.0
PRODID:-//Earth Contact Products - ECPv6.15.20//NONSGML v1.0//EN
CALSCALE:GREGORIAN
METHOD:PUBLISH
X-ORIGINAL-URL:https://earthcontactproducts.com
X-WR-CALDESC:Events for Earth Contact Products
REFRESH-INTERVAL;VALUE=DURATION:PT1H
X-Robots-Tag:noindex
X-PUBLISHED-TTL:PT1H
BEGIN:VTIMEZONE
TZID:America/Detroit
BEGIN:DAYLIGHT
TZOFFSETFROM:-0500
TZOFFSETTO:-0400
TZNAME:EDT
DTSTART:20230312T070000
END:DAYLIGHT
BEGIN:STANDARD
TZOFFSETFROM:-0400
TZOFFSETTO:-0500
TZNAME:EST
DTSTART:20231105T060000
END:STANDARD
BEGIN:DAYLIGHT
TZOFFSETFROM:-0500
TZOFFSETTO:-0400
TZNAME:EDT
DTSTART:20240310T070000
END:DAYLIGHT
BEGIN:STANDARD
TZOFFSETFROM:-0400
TZOFFSETTO:-0500
TZNAME:EST
DTSTART:20241103T060000
END:STANDARD
BEGIN:DAYLIGHT
TZOFFSETFROM:-0500
TZOFFSETTO:-0400
TZNAME:EDT
DTSTART:20250309T070000
END:DAYLIGHT
BEGIN:STANDARD
TZOFFSETFROM:-0400
TZOFFSETTO:-0500
TZNAME:EST
DTSTART:20251102T060000
END:STANDARD
END:VTIMEZONE
BEGIN:VEVENT
DTSTART;TZID=America/Detroit:20240219T000000
DTEND;TZID=America/Detroit:20240221T000000
DTSTAMP:20260425T200135
CREATED:20231113T203005Z
LAST-MODIFIED:20250103T123317Z
UID:929-1708300800-1708473600@earthcontactproducts.com
SUMMARY:Helical Pier School Training Dates for 2024
DESCRIPTION:In the dynamic realm of foundation repair\, mastery of cutting-edge techniques is the compass that guides industry professionals to success. Enter Helical Pier School\, an illuminating educational initiative from Earth Contact Products (ECP). This program delves into the nuances of helical piers and their transformative role in the foundation repair landscape. \n \nHelical Piers: Engineering the Future of Stability\nAs the silent architects of structural fortitude\, helical piers have emerged as a game-changer in ensuring stability. The Helical Pier School unveils the strategic applications and installation intricacies that define these engineering marvels. \nHelical Pier training dates: \n\nFebruary 19-21\, 2024\n\nUnveiling the Significance of Helical Piers\nHelical piers stand as pillars of strength against foundation settlement challenges. Whether combating soil inconsistencies\, compaction issues\, or other environmental factors\, these versatile tools offer a reliable solution. \nWhat Helical Pier School Brings to the Table\n\nHolistic Learning Modules: This training provides an extensive curriculum covering foundational principles\, advanced installation techniques\, and the science of underpinning helical pier applications.\nInteractive Discussions: Helical Pier School fosters an environment conducive to dialogue. Engage in conversations with industry experts and peers\, where questions are encouraged\, and insights are shared.\nReal-World Showcases: The program bridges theory and practicality by dissecting real-world case studies. Participants witness the transformative impact of helical piers in resolving diverse foundation challenges.\n\nStrengthen Your Knowledge of Helical Piers with ECP\nThis training program isn’t just an educational program; it’s a launchpad for professionals to make a tangible impact in the field. Whether you’re a seasoned veteran or new to the intricacies of foundation repair\, this program is tailored to elevate your expertise. \nIn an era of evolving construction landscapes\, staying informed and adaptable is paramount. Helical Pier School by Earth Contact Products exemplifies a commitment to excellence and continuous education within the foundation repair domain. Join us in sculpting the future of resilient structures—one helical pier at a time. \nReady to join us? Get registered HERE.
URL:https://earthcontactproducts.com/event/helical-pier-school-training-dates-for-2024/
END:VEVENT
END:VCALENDAR